BEGIN:VCALENDAR
VERSION:2.0
PRODID:-//Site de la commune de Meaulne-Vitray - ECPv6.15.20//NONSGML v1.0//EN
CALSCALE:GREGORIAN
METHOD:PUBLISH
X-WR-CALNAME:Site de la commune de Meaulne-Vitray
X-ORIGINAL-URL:https://www.meaulne.fr
X-WR-CALDESC:Évènements pour Site de la commune de Meaulne-Vitray
REFRESH-INTERVAL;VALUE=DURATION:PT1H
X-Robots-Tag:noindex
X-PUBLISHED-TTL:PT1H
BEGIN:VTIMEZONE
TZID:Europe/Paris
BEGIN:DAYLIGHT
TZOFFSETFROM:+0100
TZOFFSETTO:+0200
TZNAME:CEST
DTSTART:20240331T010000
END:DAYLIGHT
BEGIN:STANDARD
TZOFFSETFROM:+0200
TZOFFSETTO:+0100
TZNAME:CET
DTSTART:20241027T010000
END:STANDARD
BEGIN:DAYLIGHT
TZOFFSETFROM:+0100
TZOFFSETTO:+0200
TZNAME:CEST
DTSTART:20250330T010000
END:DAYLIGHT
BEGIN:STANDARD
TZOFFSETFROM:+0200
TZOFFSETTO:+0100
TZNAME:CET
DTSTART:20251026T010000
END:STANDARD
BEGIN:DAYLIGHT
TZOFFSETFROM:+0100
TZOFFSETTO:+0200
TZNAME:CEST
DTSTART:20260329T010000
END:DAYLIGHT
BEGIN:STANDARD
TZOFFSETFROM:+0200
TZOFFSETTO:+0100
TZNAME:CET
DTSTART:20261025T010000
END:STANDARD
END:VTIMEZONE
BEGIN:VEVENT
DTSTART;TZID=Europe/Paris:20250608T103000
DTEND;TZID=Europe/Paris:20250608T113000
DTSTAMP:20260422T124908
CREATED:20250517T091105Z
LAST-MODIFIED:20250528T145511Z
UID:10335-1749378600-1749382200@www.meaulne.fr
SUMMARY:Traversée de la commune par le Critérium du Dauphiné-RESTRICTIONS de CIRCULATION
DESCRIPTION:
URL:https://www.meaulne.fr/event/traversee-de-la-commune-par-le-criterium-du-dauphine/
LOCATION:Commune de Meaulne-Vitray
CATEGORIES:Sport
END:VEVENT
BEGIN:VEVENT
DTSTART;VALUE=DATE:20250609
DTEND;VALUE=DATE:20250610
DTSTAMP:20260422T124908
CREATED:20250517T091337Z
LAST-MODIFIED:20250517T091337Z
UID:10337-1749427200-1749513599@www.meaulne.fr
SUMMARY:Traversée de la commune par la randonnée VTT de l'AS Espoir Le Brethon
DESCRIPTION:
URL:https://www.meaulne.fr/event/traversee-de-la-commune-par-la-randonnee-vtt-de-las-espoir-le-brethon/
CATEGORIES:Sport
END:VEVENT
END:VCALENDAR