BEGIN:VCALENDAR
VERSION:2.0
PRODID:-//Site de la commune de Meaulne-Vitray - ECPv6.15.20//NONSGML v1.0//EN
CALSCALE:GREGORIAN
METHOD:PUBLISH
X-ORIGINAL-URL:https://www.meaulne.fr
X-WR-CALDESC:Évènements pour Site de la commune de Meaulne-Vitray
REFRESH-INTERVAL;VALUE=DURATION:PT1H
X-Robots-Tag:noindex
X-PUBLISHED-TTL:PT1H
BEGIN:VTIMEZONE
TZID:Europe/Paris
BEGIN:DAYLIGHT
TZOFFSETFROM:+0100
TZOFFSETTO:+0200
TZNAME:CEST
DTSTART:20220327T010000
END:DAYLIGHT
BEGIN:STANDARD
TZOFFSETFROM:+0200
TZOFFSETTO:+0100
TZNAME:CET
DTSTART:20221030T010000
END:STANDARD
BEGIN:DAYLIGHT
TZOFFSETFROM:+0100
TZOFFSETTO:+0200
TZNAME:CEST
DTSTART:20230326T010000
END:DAYLIGHT
BEGIN:STANDARD
TZOFFSETFROM:+0200
TZOFFSETTO:+0100
TZNAME:CET
DTSTART:20231029T010000
END:STANDARD
BEGIN:DAYLIGHT
TZOFFSETFROM:+0100
TZOFFSETTO:+0200
TZNAME:CEST
DTSTART:20240331T010000
END:DAYLIGHT
BEGIN:STANDARD
TZOFFSETFROM:+0200
TZOFFSETTO:+0100
TZNAME:CET
DTSTART:20241027T010000
END:STANDARD
END:VTIMEZONE
BEGIN:VEVENT
DTSTART;TZID=Europe/Paris:20230531T080000
DTEND;TZID=Europe/Paris:20230531T120000
DTSTAMP:20260420T175344
CREATED:20230527T173027Z
LAST-MODIFIED:20230527T173027Z
UID:6586-1685520000-1685534400@www.meaulne.fr
SUMMARY:Coupure d'eau-travaux au château d'eau du Plaix
DESCRIPTION:
URL:https://www.meaulne.fr/event/coupure-deau-travaux-au-chateau-deau-du-plaix/
LOCATION:Commune de Meaulne-Vitray
CATEGORIES:eau
END:VEVENT
END:VCALENDAR