BEGIN:VCALENDAR
VERSION:2.0
PRODID:-//Site de la commune de Meaulne-Vitray - ECPv6.15.20//NONSGML v1.0//EN
CALSCALE:GREGORIAN
METHOD:PUBLISH
X-ORIGINAL-URL:https://www.meaulne.fr
X-WR-CALDESC:Évènements pour Site de la commune de Meaulne-Vitray
REFRESH-INTERVAL;VALUE=DURATION:PT1H
X-Robots-Tag:noindex
X-PUBLISHED-TTL:PT1H
BEGIN:VTIMEZONE
TZID:Europe/Paris
BEGIN:DAYLIGHT
TZOFFSETFROM:+0100
TZOFFSETTO:+0200
TZNAME:CEST
DTSTART:20240331T010000
END:DAYLIGHT
BEGIN:STANDARD
TZOFFSETFROM:+0200
TZOFFSETTO:+0100
TZNAME:CET
DTSTART:20241027T010000
END:STANDARD
BEGIN:DAYLIGHT
TZOFFSETFROM:+0100
TZOFFSETTO:+0200
TZNAME:CEST
DTSTART:20250330T010000
END:DAYLIGHT
BEGIN:STANDARD
TZOFFSETFROM:+0200
TZOFFSETTO:+0100
TZNAME:CET
DTSTART:20251026T010000
END:STANDARD
BEGIN:DAYLIGHT
TZOFFSETFROM:+0100
TZOFFSETTO:+0200
TZNAME:CEST
DTSTART:20260329T010000
END:DAYLIGHT
BEGIN:STANDARD
TZOFFSETFROM:+0200
TZOFFSETTO:+0100
TZNAME:CET
DTSTART:20261025T010000
END:STANDARD
END:VTIMEZONE
BEGIN:VEVENT
DTSTART;TZID=Europe/Paris:20250308T110000
DTEND;TZID=Europe/Paris:20250308T170000
DTSTAMP:20260421T180622
CREATED:20250307T174156Z
LAST-MODIFIED:20250307T174220Z
UID:10009-1741431600-1741453200@www.meaulne.fr
SUMMARY:Atelier intergénérationnel VAA- réunion adolescents suivie d'un repas
DESCRIPTION:
URL:https://www.meaulne.fr/event/atelier-intergenerationnel-vaa-reunion-adolescents/
LOCATION:Salle des fêtes de Vitray
CATEGORIES:aînés,jeunes
END:VEVENT
BEGIN:VEVENT
DTSTART;TZID=Europe/Paris:20250315T140000
DTEND;TZID=Europe/Paris:20250315T170000
DTSTAMP:20260421T180622
CREATED:20250225T191419Z
LAST-MODIFIED:20250307T174032Z
UID:9932-1742047200-1742058000@www.meaulne.fr
SUMMARY:Atelier intergénérationnel jeux et lecture de Meaulne-Vitray VAA
DESCRIPTION:
URL:https://www.meaulne.fr/event/atelier-intergenerationnel-jeux-et-lecture-de-meaulne-vitray-vaa/
LOCATION:Salle des fêtes de Vitray
CATEGORIES:aînés,jeunes
END:VEVENT
END:VCALENDAR