BEGIN:VCALENDAR
VERSION:2.0
PRODID:-//Site de la commune de Meaulne-Vitray - ECPv6.15.20//NONSGML v1.0//EN
CALSCALE:GREGORIAN
METHOD:PUBLISH
X-ORIGINAL-URL:https://www.meaulne.fr
X-WR-CALDESC:Évènements pour Site de la commune de Meaulne-Vitray
REFRESH-INTERVAL;VALUE=DURATION:PT1H
X-Robots-Tag:noindex
X-PUBLISHED-TTL:PT1H
BEGIN:VTIMEZONE
TZID:UTC
BEGIN:STANDARD
TZOFFSETFROM:+0000
TZOFFSETTO:+0000
TZNAME:UTC
DTSTART:20210101T000000
END:STANDARD
END:VTIMEZONE
BEGIN:VEVENT
DTSTART;VALUE=DATE:20220713
DTEND;VALUE=DATE:20220714
DTSTAMP:20260423T025947
CREATED:20220713T163419Z
LAST-MODIFIED:20220713T163419Z
UID:1598-1657670400-1657756799@www.meaulne.fr
SUMMARY:RDV entreprise et RDV administré
DESCRIPTION:
URL:https://www.meaulne.fr/event/rdv-entreprise-et-rdv-administre/
CATEGORIES:Activité de l'équipe municipale
END:VEVENT
END:VCALENDAR