BEGIN:VCALENDAR
VERSION:2.0
PRODID:-//Site de la commune de Meaulne-Vitray - ECPv6.15.20//NONSGML v1.0//EN
CALSCALE:GREGORIAN
METHOD:PUBLISH
X-WR-CALNAME:Site de la commune de Meaulne-Vitray
X-ORIGINAL-URL:https://www.meaulne.fr
X-WR-CALDESC:Évènements pour Site de la commune de Meaulne-Vitray
REFRESH-INTERVAL;VALUE=DURATION:PT1H
X-Robots-Tag:noindex
X-PUBLISHED-TTL:PT1H
BEGIN:VTIMEZONE
TZID:UTC
BEGIN:STANDARD
TZOFFSETFROM:+0000
TZOFFSETTO:+0000
TZNAME:UTC
DTSTART:20210101T000000
END:STANDARD
END:VTIMEZONE
BEGIN:VEVENT
DTSTART;VALUE=DATE:20220104
DTEND;VALUE=DATE:20220105
DTSTAMP:20260423T124305
CREATED:20220713T163001Z
LAST-MODIFIED:20220713T163001Z
UID:1589-1641254400-1641340799@www.meaulne.fr
SUMMARY:Entretiens agents de la communauté de commune
DESCRIPTION:
URL:https://www.meaulne.fr/event/entretiens-agents-de-la-communaute-de-commune/
CATEGORIES:Activité de l'équipe municipale
END:VEVENT
BEGIN:VEVENT
DTSTART;VALUE=DATE:20220105
DTEND;VALUE=DATE:20220106
DTSTAMP:20260423T124305
CREATED:20220713T163153Z
LAST-MODIFIED:20220713T163153Z
UID:1592-1641340800-1641427199@www.meaulne.fr
SUMMARY:Réunion SICTOM
DESCRIPTION:Réunion SICTOM Commission hygiène et sécurité ; Réunion ALSH (Accueil de loisirs) ; SEA Vallon ; Administré intervention sociale
URL:https://www.meaulne.fr/event/reunion-sictom/
CATEGORIES:Activité de l'équipe municipale
END:VEVENT
BEGIN:VEVENT
DTSTART;VALUE=DATE:20220107
DTEND;VALUE=DATE:20220108
DTSTAMP:20260423T124305
CREATED:20220713T163257Z
LAST-MODIFIED:20220713T163257Z
UID:1594-1641513600-1641599999@www.meaulne.fr
SUMMARY:RDV Assistant social
DESCRIPTION:
URL:https://www.meaulne.fr/event/rdv-assistant-social/
CATEGORIES:Activité de l'équipe municipale
END:VEVENT
BEGIN:VEVENT
DTSTART;VALUE=DATE:20220108
DTEND;VALUE=DATE:20220109
DTSTAMP:20260423T124305
CREATED:20220713T163337Z
LAST-MODIFIED:20220713T163337Z
UID:1596-1641600000-1641686399@www.meaulne.fr
SUMMARY:Mariage
DESCRIPTION:
URL:https://www.meaulne.fr/event/mariage/
CATEGORIES:Activité de l'équipe municipale
END:VEVENT
BEGIN:VEVENT
DTSTART;VALUE=DATE:20220112
DTEND;VALUE=DATE:20220113
DTSTAMP:20260423T124305
CREATED:20220713T163528Z
LAST-MODIFIED:20220713T163528Z
UID:1600-1641945600-1642031999@www.meaulne.fr
SUMMARY:Réunion communauté de commune
DESCRIPTION:bruit ; SEA Vallon ; Rdv IEN (Inspectrice Éducation nationale)
URL:https://www.meaulne.fr/event/reunion-communaute-de-commune/
CATEGORIES:Activité de l'équipe municipale
END:VEVENT
END:VCALENDAR